BEGIN:VCALENDAR
VERSION:2.0
PRODID:-//Greenhouse Montessori School - ECPv6.15.3//NONSGML v1.0//EN
CALSCALE:GREGORIAN
METHOD:PUBLISH
X-WR-CALNAME:Greenhouse Montessori School
X-ORIGINAL-URL:https://greenhouse.edu.ph
X-WR-CALDESC:Events for Greenhouse Montessori School
REFRESH-INTERVAL;VALUE=DURATION:PT1H
X-Robots-Tag:noindex
X-PUBLISHED-TTL:PT1H
BEGIN:VTIMEZONE
TZID:UTC
BEGIN:STANDARD
TZOFFSETFROM:+0000
TZOFFSETTO:+0000
TZNAME:UTC
DTSTART:20170101T000000
END:STANDARD
END:VTIMEZONE
BEGIN:VTIMEZONE
TZID:Asia/Shanghai
BEGIN:STANDARD
TZOFFSETFROM:+0800
TZOFFSETTO:+0800
TZNAME:CST
DTSTART:20170101T000000
END:STANDARD
END:VTIMEZONE
BEGIN:VEVENT
DTSTART;VALUE=DATE:20180130
DTEND;VALUE=DATE:20180131
DTSTAMP:20260425T002749
CREATED:20170630T170052Z
LAST-MODIFIED:20170630T170052Z
UID:1375-1517270400-1517356799@greenhouse.edu.ph
SUMMARY:Chinese New Year - Holiday: No Classes (Tentative)
DESCRIPTION:
URL:https://greenhouse.edu.ph/event/chinese-new-year-holiday-no-classes-tentative/
END:VEVENT
BEGIN:VEVENT
DTSTART;TZID=UTC:20180126T080000
DTEND;TZID=UTC:20180126T170000
DTSTAMP:20260425T002749
CREATED:20170630T170019Z
LAST-MODIFIED:20170630T170019Z
UID:1373-1516953600-1516986000@greenhouse.edu.ph
SUMMARY:3rd Parent Teacher Conference (No Classes)
DESCRIPTION:
URL:https://greenhouse.edu.ph/event/3rd-parent-teacher-conference-no-classes/
END:VEVENT
BEGIN:VEVENT
DTSTART;TZID=UTC:20180110T080000
DTEND;TZID=UTC:20180112T170000
DTSTAMP:20260425T002749
CREATED:20170630T165936Z
LAST-MODIFIED:20170630T165936Z
UID:1371-1515571200-1515776400@greenhouse.edu.ph
SUMMARY:Third Quarterly Test
DESCRIPTION:
URL:https://greenhouse.edu.ph/event/third-quarterly-test/
END:VEVENT
BEGIN:VEVENT
DTSTART;TZID=UTC:20180103T080000
DTEND;TZID=UTC:20180103T170000
DTSTAMP:20260425T002749
CREATED:20170630T165903Z
LAST-MODIFIED:20170630T165903Z
UID:1369-1514966400-1514998800@greenhouse.edu.ph
SUMMARY:Classes Resume
DESCRIPTION:
URL:https://greenhouse.edu.ph/event/classes-resume-2/
END:VEVENT
BEGIN:VEVENT
DTSTART;TZID=UTC:20171222T130000
DTEND;TZID=UTC:20171222T170000
DTSTAMP:20260425T002749
CREATED:20170630T165846Z
LAST-MODIFIED:20170630T165846Z
UID:1367-1513947600-1513962000@greenhouse.edu.ph
SUMMARY:Teachers Christmas Party
DESCRIPTION:
URL:https://greenhouse.edu.ph/event/teachers-christmas-party/
END:VEVENT
BEGIN:VEVENT
DTSTART;VALUE=DATE:20171221
DTEND;VALUE=DATE:20180103
DTSTAMP:20260425T002749
CREATED:20170630T165810Z
LAST-MODIFIED:20170630T171517Z
UID:1365-1513814400-1514937599@greenhouse.edu.ph
SUMMARY:Christmas Vacation - Holiday Break: No Classes
DESCRIPTION:
URL:https://greenhouse.edu.ph/event/christmas-vacation-holiday-break-no-classes/
END:VEVENT
BEGIN:VEVENT
DTSTART;VALUE=DATE:20171220
DTEND;VALUE=DATE:20171221
DTSTAMP:20260425T002749
CREATED:20170630T165716Z
LAST-MODIFIED:20170630T165716Z
UID:1363-1513728000-1513814399@greenhouse.edu.ph
SUMMARY:Class Christmas Party
DESCRIPTION:
URL:https://greenhouse.edu.ph/event/class-christmas-party/
END:VEVENT
BEGIN:VEVENT
DTSTART;TZID=Asia/Shanghai:20171216T170000
DTEND;TZID=Asia/Shanghai:20171216T200000
DTSTAMP:20260425T002749
CREATED:20170630T165619Z
LAST-MODIFIED:20170630T165619Z
UID:1361-1513443600-1513454400@greenhouse.edu.ph
SUMMARY:Christmas Program (tentative)
DESCRIPTION:
URL:https://greenhouse.edu.ph/event/christmas-program-tentative/
END:VEVENT
BEGIN:VEVENT
DTSTART;TZID=UTC:20171130T080000
DTEND;TZID=UTC:20171130T170000
DTSTAMP:20260425T002749
CREATED:20170630T165330Z
LAST-MODIFIED:20170630T165516Z
UID:1357-1512028800-1512061200@greenhouse.edu.ph
SUMMARY:Bonifacio Day - Holiday: No Classes
DESCRIPTION:School will be closed; there will be no classes on this day. \nBonifacio Day is a national public holiday that celebrates the birthday of one of the Philippines’ greatest heroes\, Andrés Bonifacio.
URL:https://greenhouse.edu.ph/event/bonifacio-day-holiday-no-classes/
END:VEVENT
BEGIN:VEVENT
DTSTART;VALUE=DATE:20171117
DTEND;VALUE=DATE:20171118
DTSTAMP:20260425T002749
CREATED:20170630T165143Z
LAST-MODIFIED:20170630T171402Z
UID:1355-1510876800-1510963199@greenhouse.edu.ph
SUMMARY:Educational Field Trip (Tentative)
DESCRIPTION:
URL:https://greenhouse.edu.ph/event/educational-field-trip/
END:VEVENT
BEGIN:VEVENT
DTSTART;TZID=Asia/Shanghai:20171110T080000
DTEND;TZID=Asia/Shanghai:20171110T170000
DTSTAMP:20260425T002749
CREATED:20170630T164809Z
LAST-MODIFIED:20170630T164809Z
UID:1353-1510300800-1510333200@greenhouse.edu.ph
SUMMARY:2nd Parent Teacher Conference: No Classes
DESCRIPTION:
URL:https://greenhouse.edu.ph/event/2nd-parent-teacher-conference-no-classes/
END:VEVENT
BEGIN:VEVENT
DTSTART;VALUE=DATE:20171108
DTEND;VALUE=DATE:20171109
DTSTAMP:20260425T002749
CREATED:20170630T164730Z
LAST-MODIFIED:20170630T164730Z
UID:1351-1510099200-1510185599@greenhouse.edu.ph
SUMMARY:Start of Makeup Class (Tentative)
DESCRIPTION:
URL:https://greenhouse.edu.ph/event/start-of-makeup-class-tentative/
END:VEVENT
BEGIN:VEVENT
DTSTART;VALUE=DATE:20171106
DTEND;VALUE=DATE:20171107
DTSTAMP:20260425T002749
CREATED:20170630T164614Z
LAST-MODIFIED:20170630T164614Z
UID:1349-1509926400-1510012799@greenhouse.edu.ph
SUMMARY:Classes Resume
DESCRIPTION:
URL:https://greenhouse.edu.ph/event/classes-resume/
END:VEVENT
BEGIN:VEVENT
DTSTART;VALUE=DATE:20171025
DTEND;VALUE=DATE:20171106
DTSTAMP:20260425T002749
CREATED:20170630T164536Z
LAST-MODIFIED:20170630T171315Z
UID:1347-1508889600-1509926399@greenhouse.edu.ph
SUMMARY:Semestral Break: No Classes
DESCRIPTION:
URL:https://greenhouse.edu.ph/event/semestral-break-no-classes/
END:VEVENT
BEGIN:VEVENT
DTSTART;VALUE=DATE:20171024
DTEND;VALUE=DATE:20171025
DTSTAMP:20260425T002749
CREATED:20170630T164200Z
LAST-MODIFIED:20170630T164446Z
UID:1345-1508803200-1508889599@greenhouse.edu.ph
SUMMARY:UN Day Celebration (Costume Day)
DESCRIPTION:
URL:https://greenhouse.edu.ph/event/un-day-celebration-costume-day/
END:VEVENT
BEGIN:VEVENT
DTSTART;VALUE=DATE:20171019
DTEND;VALUE=DATE:20171021
DTSTAMP:20260425T002749
CREATED:20170630T164138Z
LAST-MODIFIED:20170630T164138Z
UID:1343-1508371200-1508543999@greenhouse.edu.ph
SUMMARY:Sports Fest
DESCRIPTION:
URL:https://greenhouse.edu.ph/event/sports-fest/
END:VEVENT
BEGIN:VEVENT
DTSTART;VALUE=DATE:20171018
DTEND;VALUE=DATE:20171021
DTSTAMP:20260425T002749
CREATED:20170630T164040Z
LAST-MODIFIED:20170630T164040Z
UID:1341-1508284800-1508543999@greenhouse.edu.ph
SUMMARY:2nd Quarterly Test (all levels)
DESCRIPTION:
URL:https://greenhouse.edu.ph/event/2nd-quarterly-test-all-levels/
END:VEVENT
BEGIN:VEVENT
DTSTART;VALUE=DATE:20171005
DTEND;VALUE=DATE:20171006
DTSTAMP:20260425T002749
CREATED:20170630T164013Z
LAST-MODIFIED:20170630T164013Z
UID:1339-1507161600-1507247999@greenhouse.edu.ph
SUMMARY:World Teacher's Day
DESCRIPTION:
URL:https://greenhouse.edu.ph/event/world-teachers-day/
END:VEVENT
BEGIN:VEVENT
DTSTART;VALUE=DATE:20170929
DTEND;VALUE=DATE:20170930
DTSTAMP:20260425T002749
CREATED:20170630T163942Z
LAST-MODIFIED:20170630T163942Z
UID:1337-1506643200-1506729599@greenhouse.edu.ph
SUMMARY:Science Quiz Bee
DESCRIPTION:
URL:https://greenhouse.edu.ph/event/science-quiz-bee/
END:VEVENT
BEGIN:VEVENT
DTSTART;VALUE=DATE:20170925
DTEND;VALUE=DATE:20170930
DTSTAMP:20260425T002749
CREATED:20170630T163900Z
LAST-MODIFIED:20170630T163910Z
UID:1335-1506297600-1506729599@greenhouse.edu.ph
SUMMARY:Science Week
DESCRIPTION:
URL:https://greenhouse.edu.ph/event/science-week/
END:VEVENT
BEGIN:VEVENT
DTSTART;VALUE=DATE:20170918
DTEND;VALUE=DATE:20170923
DTSTAMP:20260425T002749
CREATED:20170630T163802Z
LAST-MODIFIED:20170630T163807Z
UID:1333-1505692800-1506124799@greenhouse.edu.ph
SUMMARY:Math Week
DESCRIPTION:
URL:https://greenhouse.edu.ph/event/math-week/
END:VEVENT
BEGIN:VEVENT
DTSTART;VALUE=DATE:20170908
DTEND;VALUE=DATE:20170909
DTSTAMP:20260425T002749
CREATED:20170630T162822Z
LAST-MODIFIED:20170630T162843Z
UID:1331-1504828800-1504915199@greenhouse.edu.ph
SUMMARY:1st Parent Teacher Conference: No Classes
DESCRIPTION:There will be no classes today
URL:https://greenhouse.edu.ph/event/1st-parent-teacher-conference-no-classes/
END:VEVENT
BEGIN:VEVENT
DTSTART;VALUE=DATE:20170901
DTEND;VALUE=DATE:20170902
DTSTAMP:20260425T002749
CREATED:20170630T162639Z
LAST-MODIFIED:20170630T171139Z
UID:1329-1504224000-1504310399@greenhouse.edu.ph
SUMMARY:Eid'l Adha: Feast of Sacrifice - Holiday: No Classes (Tentative)
DESCRIPTION:Greenhouse Montessori will be closed today.
URL:https://greenhouse.edu.ph/event/eidl-adha-feast-of-sacrifice-holiday-no-classes/
END:VEVENT
BEGIN:VEVENT
DTSTART;VALUE=DATE:20170828
DTEND;VALUE=DATE:20170829
DTSTAMP:20260425T002749
CREATED:20170630T162229Z
LAST-MODIFIED:20170630T170731Z
UID:1326-1503878400-1503964799@greenhouse.edu.ph
SUMMARY:National Heroes Day - Holiday: No Classes
DESCRIPTION:
URL:https://greenhouse.edu.ph/event/national-heroes-day-holiday-no-class/
END:VEVENT
BEGIN:VEVENT
DTSTART;VALUE=DATE:20170825
DTEND;VALUE=DATE:20170826
DTSTAMP:20260425T002749
CREATED:20170630T162051Z
LAST-MODIFIED:20170630T162051Z
UID:1324-1503619200-1503705599@greenhouse.edu.ph
SUMMARY:Buwan ng Wika Celebration
DESCRIPTION:
URL:https://greenhouse.edu.ph/event/buwan-ng-wika-celebration/
END:VEVENT
BEGIN:VEVENT
DTSTART;VALUE=DATE:20170824
DTEND;VALUE=DATE:20170825
DTSTAMP:20260425T002749
CREATED:20170630T161935Z
LAST-MODIFIED:20170630T161956Z
UID:1322-1503532800-1503619199@greenhouse.edu.ph
SUMMARY:Spelling Bee
DESCRIPTION:
URL:https://greenhouse.edu.ph/event/spelling-bee/
END:VEVENT
BEGIN:VEVENT
DTSTART;VALUE=DATE:20170821
DTEND;VALUE=DATE:20170826
DTSTAMP:20260425T002749
CREATED:20170630T161837Z
LAST-MODIFIED:20170630T161837Z
UID:1320-1503273600-1503705599@greenhouse.edu.ph
SUMMARY:Literacy Week
DESCRIPTION:
URL:https://greenhouse.edu.ph/event/literacy-week/
END:VEVENT
BEGIN:VEVENT
DTSTART;VALUE=DATE:20170821
DTEND;VALUE=DATE:20170822
DTSTAMP:20260425T002749
CREATED:20170630T161655Z
LAST-MODIFIED:20170630T161655Z
UID:1318-1503273600-1503359999@greenhouse.edu.ph
SUMMARY:Ninoy Aquino Day Holiday: No school
DESCRIPTION:Ninoy Aquino Day Holiday: No school \nGreenhouse Montessori will be closed.
URL:https://greenhouse.edu.ph/event/ninoy-aquino-day-holiday-no-school/
END:VEVENT
BEGIN:VEVENT
DTSTART;TZID=UTC:20170816T080000
DTEND;TZID=UTC:20170818T143000
DTSTAMP:20260425T002749
CREATED:20170630T161528Z
LAST-MODIFIED:20170630T171038Z
UID:1316-1502870400-1503066600@greenhouse.edu.ph
SUMMARY:1st Quarterly Test
DESCRIPTION:1st Quarterly Test for all levels will be held during these days.
URL:https://greenhouse.edu.ph/event/1st-quarterly-test/
END:VEVENT
BEGIN:VEVENT
DTSTART;TZID=UTC:20170807T080000
DTEND;TZID=UTC:20170811T143000
DTSTAMP:20260425T002749
CREATED:20170630T161434Z
LAST-MODIFIED:20170630T171009Z
UID:1314-1502092800-1502461800@greenhouse.edu.ph
SUMMARY:Book Fair Week
DESCRIPTION:
URL:https://greenhouse.edu.ph/event/book-fair-week/
END:VEVENT
END:VCALENDAR